BEGIN:VCALENDAR
VERSION:2.0
PRODID:-//Kino Tuškanac//Filmski programi//HR
BEGIN:VEVENT
UID:d8c3f4ec9ddbdb5973d4a37acf0899af@kinotuskanac.hr
DTSTAMP:20260420T072413Z
DTSTART:20050928T190000
DTEND:20050928T210000
SUMMARY:Jedne noći, jedan vlak
LOCATION:Kino Tuškanac
DESCRIPTION:Un soir, un train, 1968 R: André Delvaux
END:VEVENT
END:VCALENDAR