BEGIN:VCALENDAR
VERSION:2.0
PRODID:-//Kino Tuškanac//Filmski programi//HR
BEGIN:VEVENT
UID:0b831f821d11e91a9969c44c0bb38fc2@kinotuskanac.hr
DTSTAMP:20260426T010841Z
DTSTART:20200622T200000
DTEND:20200622T220000
SUMMARY:Mikaël
LOCATION:Kino Tuškanac
DESCRIPTION:Njemačka, 1924 R: Carl Theodor Dreyer
END:VEVENT
END:VCALENDAR