BEGIN:VCALENDAR
VERSION:2.0
PRODID:-//Kino Tuškanac//Filmski programi//HR
BEGIN:VEVENT
UID:53381b5d36eb61a4d39ba19c537ee3e7@kinotuskanac.hr
DTSTAMP:20260423T135312Z
DTSTART:20200628T200000
DTEND:20200628T220000
SUMMARY:Božić u srpnju
LOCATION:Kino Tuškanac
DESCRIPTION:Christmas in July, SAD, 1940 R: Preston Sturges
END:VEVENT
END:VCALENDAR