BEGIN:VCALENDAR
VERSION:2.0
PRODID:-//Kino Tuškanac//Filmski programi//HR
BEGIN:VEVENT
UID:36cff9bd9873718fcf5e397065e48197@kinotuskanac.hr
DTSTAMP:20260424T212738Z
DTSTART:20200630T200000
DTEND:20200630T220000
SUMMARY:Nevjerno tvoja
LOCATION:Kino Tuškanac
DESCRIPTION:Unfaithfully Yours, SAD, 1948 R: Preston Sturges
END:VEVENT
END:VCALENDAR