BEGIN:VCALENDAR
VERSION:2.0
PRODID:-//Kino Tuškanac//Filmski programi//HR
BEGIN:VEVENT
UID:0f69254b2cfa5ab94de0f45f51c5d07b@kinotuskanac.hr
DTSTAMP:20260421T134340Z
DTSTART:20200701T210000
DTEND:20200701T230000
SUMMARY:Ždralovi lete
LOCATION:Kino Tuškanac
DESCRIPTION:Letyat zhuravli, SSSR, 1957 R: Mihail Kalatozov
END:VEVENT
END:VCALENDAR