BEGIN:VCALENDAR
VERSION:2.0
PRODID:-//Kino Tuškanac//Filmski programi//HR
BEGIN:VEVENT
UID:4b7967749ad6e33217751df110639b98@kinotuskanac.hr
DTSTAMP:20260420T073006Z
DTSTART:20050928T210000
DTEND:20050928T230000
SUMMARY:Čovjek s kratko podšišanom kosom
LOCATION:Kino Tuškanac
DESCRIPTION:Der man die zijn haar kort liet knippen, 1965 R: André Delvaux
END:VEVENT
END:VCALENDAR