BEGIN:VCALENDAR
VERSION:2.0
PRODID:-//Kino Tuškanac//Filmski programi//HR
BEGIN:VEVENT
UID:038a6d8e6fc6f33f5245c57305d8ccfd@kinotuskanac.hr
DTSTAMP:20260419T142106Z
DTSTART:20200702T210000
DTEND:20200702T230000
SUMMARY:Tokijska priča
LOCATION:Kino Tuškanac
DESCRIPTION:Tokyo monogatari, Japan, 1953 R: Yasujirō Ozu
END:VEVENT
END:VCALENDAR