BEGIN:VCALENDAR
VERSION:2.0
PRODID:-//Kino Tuškanac//Filmski programi//HR
BEGIN:VEVENT
UID:9a64d32d616e5f36270d0899bf171ba0@kinotuskanac.hr
DTSTAMP:20260420T195906Z
DTSTART:20050929T190000
DTEND:20050929T210000
SUMMARY:Monsieur Hawarden
LOCATION:Kino Tuškanac
DESCRIPTION:1969 R: Harry Kümel
END:VEVENT
END:VCALENDAR