BEGIN:VCALENDAR
VERSION:2.0
PRODID:-//Kino Tuškanac//Filmski programi//HR
BEGIN:VEVENT
UID:240d75f99d46cf8cde57e7586a2f7499@kinotuskanac.hr
DTSTAMP:20260420T172146Z
DTSTART:20200715T210000
DTEND:20200715T230000
SUMMARY:Džungla na asfaltu
LOCATION:Kino Tuškanac
DESCRIPTION:The Asphalt Jungle, SAD, 1950 R: John Huston
END:VEVENT
END:VCALENDAR