BEGIN:VCALENDAR
VERSION:2.0
PRODID:-//Kino Tuškanac//Filmski programi//HR
BEGIN:VEVENT
UID:4a43292d24455f187f944131e8b79c86@kinotuskanac.hr
DTSTAMP:20260420T114850Z
DTSTART:20050929T210000
DTEND:20050929T230000
SUMMARY:Malpertuis
LOCATION:Kino Tuškanac
DESCRIPTION:1972 R: Harry Kümel
END:VEVENT
END:VCALENDAR