BEGIN:VCALENDAR
VERSION:2.0
PRODID:-//Kino Tuškanac//Filmski programi//HR
BEGIN:VEVENT
UID:51ee3ab8255a65dbb4d533e21cc2d6d0@kinotuskanac.hr
DTSTAMP:20260421T002721Z
DTSTART:20200719T210000
DTEND:20200719T230000
SUMMARY:Tragači
LOCATION:Kino Tuškanac
DESCRIPTION:The Searchers, SAD, 1956 | Mjesto prikazivanja filma: Kulturno informativni centar KIC (Preradovićeva ul. 5) R: John Ford
END:VEVENT
END:VCALENDAR