BEGIN:VCALENDAR
VERSION:2.0
PRODID:-//Kino Tuškanac//Filmski programi//HR
BEGIN:VEVENT
UID:2d90b34398ec0d7d094f2bafc5fbd951@kinotuskanac.hr
DTSTAMP:20260420T175018Z
DTSTART:20200727T213000
DTEND:20200727T233000
SUMMARY:Apokalipsa danas: Final Cut
LOCATION:Kino Tuškanac
DESCRIPTION:Apocalypse Now: Final Cut, SAD, 1979 | Mjesto prikazivanja filma: Kino Forum (SD Stjepan Radić, Jarunska ul. 2) R: Francis Ford Coppola
END:VEVENT
END:VCALENDAR