BEGIN:VCALENDAR
VERSION:2.0
PRODID:-//Kino Tuškanac//Filmski programi//HR
BEGIN:VEVENT
UID:ed46f92d567b3124f943a6840334ebbe@kinotuskanac.hr
DTSTAMP:20260423T144009Z
DTSTART:20200901T190000
DTEND:20200901T210000
SUMMARY:Fitzcarraldo
LOCATION:Kino Tuškanac
DESCRIPTION:Zapadna Njemačka, 1982 R: Werner Herzog
END:VEVENT
END:VCALENDAR