BEGIN:VCALENDAR
VERSION:2.0
PRODID:-//Kino Tuškanac//Filmski programi//HR
BEGIN:VEVENT
UID:614d24076f73f9e79769a5de3b2c898b@kinotuskanac.hr
DTSTAMP:20260420T070538Z
DTSTART:20051001T190000
DTEND:20051001T210000
SUMMARY:Daens
LOCATION:Kino Tuškanac
DESCRIPTION:1992 R: Stijn Coninx
END:VEVENT
END:VCALENDAR