BEGIN:VCALENDAR
VERSION:2.0
PRODID:-//Kino Tuškanac//Filmski programi//HR
BEGIN:VEVENT
UID:0aaa7f41198f0db5ddb8e8c6b48beec7@kinotuskanac.hr
DTSTAMP:20260423T150621Z
DTSTART:20200906T190000
DTEND:20200906T210000
SUMMARY:I patuljci počinju mali
LOCATION:Kino Tuškanac
DESCRIPTION:Auch Zwerge haben klein angefangen, Zapadna Njemačka, 1970 R: Werner Herzog
END:VEVENT
END:VCALENDAR