BEGIN:VCALENDAR
VERSION:2.0
PRODID:-//Kino Tuškanac//Filmski programi//HR
BEGIN:VEVENT
UID:a92100fbdb6a06f1db842f78ba96ca9a@kinotuskanac.hr
DTSTAMP:20260421T012755Z
DTSTART:20051001T213000
DTEND:20051001T233000
SUMMARY:Pauline i Paulette
LOCATION:Kino Tuškanac
DESCRIPTION:Pauline et Paulette, 2001 R: Lieven Debrauwer
END:VEVENT
END:VCALENDAR