BEGIN:VCALENDAR
VERSION:2.0
PRODID:-//Kino Tuškanac//Filmski programi//HR
BEGIN:VEVENT
UID:78a52e18c9818166aa68b02421447fef@kinotuskanac.hr
DTSTAMP:20260420T231109Z
DTSTART:20200915T210000
DTEND:20200915T230000
SUMMARY:Dheepan
LOCATION:Kino Tuškanac
DESCRIPTION:Francuska, 2015 R: Jacques Audiard
END:VEVENT
END:VCALENDAR