BEGIN:VCALENDAR
VERSION:2.0
PRODID:-//Kino Tuškanac//Filmski programi//HR
BEGIN:VEVENT
UID:1cdc36f377ab7a4bcdc467e1d033891e@kinotuskanac.hr
DTSTAMP:20260420T115247Z
DTSTART:20200922T190000
DTEND:20200922T210000
SUMMARY:Andaluzijski pas
LOCATION:Kino Tuškanac
DESCRIPTION:Un chien andalou, Francuska, 1929 R: Luis Buñuel
END:VEVENT
END:VCALENDAR