BEGIN:VCALENDAR
VERSION:2.0
PRODID:-//Kino Tuškanac//Filmski programi//HR
BEGIN:VEVENT
UID:85342be0575b68640516fb65962673c1@kinotuskanac.hr
DTSTAMP:20260420T230236Z
DTSTART:20051003T190000
DTEND:20051003T210000
SUMMARY:Sin
LOCATION:Kino Tuškanac
DESCRIPTION:Le Fils, 2002 R: Jean-Pierre Dardenne, Luc Dardenne
END:VEVENT
END:VCALENDAR