BEGIN:VCALENDAR
VERSION:2.0
PRODID:-//Kino Tuškanac//Filmski programi//HR
BEGIN:VEVENT
UID:9771075e5579cd28735018cdbf7d1746@kinotuskanac.hr
DTSTAMP:20260419T142134Z
DTSTART:20200926T210000
DTEND:20200926T230000
SUMMARY:Susana
LOCATION:Kino Tuškanac
DESCRIPTION:Meksiko, 1951 R: Luis Buñuel
END:VEVENT
END:VCALENDAR