BEGIN:VCALENDAR
VERSION:2.0
PRODID:-//Kino Tuškanac//Filmski programi//HR
BEGIN:VEVENT
UID:ff4b90831bc08debf13330a2b189f304@kinotuskanac.hr
DTSTAMP:20260420T114842Z
DTSTART:20051003T210000
DTEND:20051003T230000
SUMMARY:Gillesova supruga
LOCATION:Kino Tuškanac
DESCRIPTION:La femme de Gilles, 2004 R: Frédéric Fonteyne
END:VEVENT
END:VCALENDAR