BEGIN:VCALENDAR
VERSION:2.0
PRODID:-//Kino Tuškanac//Filmski programi//HR
BEGIN:VEVENT
UID:16b651f33464b6602672985bcc0a553c@kinotuskanac.hr
DTSTAMP:20260420T195841Z
DTSTART:20051004T210000
DTEND:20051004T230000
SUMMARY:Monsieur Hawarden
LOCATION:Kino Tuškanac
DESCRIPTION:1969 R: Harry Kümel
END:VEVENT
END:VCALENDAR