BEGIN:VCALENDAR
VERSION:2.0
PRODID:-//Kino Tuškanac//Filmski programi//HR
BEGIN:VEVENT
UID:ef2d7fe7d9d533576f0122cc57e14591@kinotuskanac.hr
DTSTAMP:20260420T114848Z
DTSTART:20051005T190000
DTEND:20051005T210000
SUMMARY:Malpertuis
LOCATION:Kino Tuškanac
DESCRIPTION:1972 R: Harry Kümel
END:VEVENT
END:VCALENDAR