BEGIN:VCALENDAR
VERSION:2.0
PRODID:-//Kino Tuškanac//Filmski programi//HR
BEGIN:VEVENT
UID:8b3a048df80a76f1f0592af5991934be@kinotuskanac.hr
DTSTAMP:20260419T185609Z
DTSTART:20201001T190000
DTEND:20201001T210000
SUMMARY:Metropolis
LOCATION:Kino Tuškanac
DESCRIPTION:Njemačka, 1927 R: Fritz Lang
END:VEVENT
END:VCALENDAR