BEGIN:VCALENDAR
VERSION:2.0
PRODID:-//Kino Tuškanac//Filmski programi//HR
BEGIN:VEVENT
UID:fd6f566417a153d085e892273cec60e9@kinotuskanac.hr
DTSTAMP:20260423T134850Z
DTSTART:20201002T210000
DTEND:20201002T230000
SUMMARY:Žena na mjesecu
LOCATION:Kino Tuškanac
DESCRIPTION:Frau im Mond, Njemačka, 1929 R: Fritz Lang
END:VEVENT
END:VCALENDAR