BEGIN:VCALENDAR
VERSION:2.0
PRODID:-//Kino Tuškanac//Filmski programi//HR
BEGIN:VEVENT
UID:a71bdace508a2b9f5aa583d37dafdcd8@kinotuskanac.hr
DTSTAMP:20260421T012754Z
DTSTART:20051006T190000
DTEND:20051006T210000
SUMMARY:Pauline i Paulette
LOCATION:Kino Tuškanac
DESCRIPTION:Pauline et Paulette, 2001 R: Lieven Debrauwer
END:VEVENT
END:VCALENDAR