BEGIN:VCALENDAR
VERSION:2.0
PRODID:-//Kino Tuškanac//Filmski programi//HR
BEGIN:VEVENT
UID:51d18d8aa5dc5fb06e7c4020d147fbcc@kinotuskanac.hr
DTSTAMP:20260421T235411Z
DTSTART:20201007T190000
DTEND:20201007T210000
SUMMARY:Oslobađanje
LOCATION:Kino Tuškanac
DESCRIPTION:Deliverance, SAD, 1972 R: John Boorman
END:VEVENT
END:VCALENDAR