BEGIN:VCALENDAR
VERSION:2.0
PRODID:-//Kino Tuškanac//Filmski programi//HR
BEGIN:VEVENT
UID:8e177065bd7a1ad508cf8dbbd3ef81be@kinotuskanac.hr
DTSTAMP:20260420T174952Z
DTSTART:20201008T190000
DTEND:20201008T210000
SUMMARY:Ljudsko stanje: Nema veće ljubavi
LOCATION:Kino Tuškanac
DESCRIPTION:Ningen no jôken, Japan, 1959 R: Masaki Kobayashi
END:VEVENT
END:VCALENDAR