BEGIN:VCALENDAR
VERSION:2.0
PRODID:-//Kino Tuškanac//Filmski programi//HR
BEGIN:VEVENT
UID:bc174c0106a61fc566946fbdef36ab88@kinotuskanac.hr
DTSTAMP:20260420T070538Z
DTSTART:20051006T210000
DTEND:20051006T230000
SUMMARY:Daens
LOCATION:Kino Tuškanac
DESCRIPTION:1992 R: Stijn Coninx
END:VEVENT
END:VCALENDAR