BEGIN:VCALENDAR
VERSION:2.0
PRODID:-//Kino Tuškanac//Filmski programi//HR
BEGIN:VEVENT
UID:563f5a3d38c9f42c15d6e0eea965986e@kinotuskanac.hr
DTSTAMP:20260421T080203Z
DTSTART:20201015T190000
DTEND:20201015T210000
SUMMARY:Berlin Alexanderplatz (2020)
LOCATION:Kino Tuškanac
DESCRIPTION:Njemačka, Nizozemska, Francuska, Kanada, 2020 R: Burhan Qurbani
END:VEVENT
END:VCALENDAR