BEGIN:VCALENDAR
VERSION:2.0
PRODID:-//Kino Tuškanac//Filmski programi//HR
BEGIN:VEVENT
UID:bc904ca01d5b8eaa4074d005baa12fc5@kinotuskanac.hr
DTSTAMP:20260422T011716Z
DTSTART:20201016T211500
DTEND:20201016T231500
SUMMARY:Lekcije iz perzijskog
LOCATION:Kino Tuškanac
DESCRIPTION:Persian Lessons, Rusija, Njemačka, Bjelorusija, 2020 R: Vadim Perelman
END:VEVENT
END:VCALENDAR