BEGIN:VCALENDAR
VERSION:2.0
PRODID:-//Kino Tuškanac//Filmski programi//HR
BEGIN:VEVENT
UID:eba076b8fe61d86b21df1a2be512d738@kinotuskanac.hr
DTSTAMP:20260423T161550Z
DTSTART:20201017T190000
DTEND:20201017T210000
SUMMARY:Moja mala sestra
LOCATION:Kino Tuškanac
DESCRIPTION:Schwesterlein, Njemačka, Švicarska, 2020 R: Stéphanie Chuat
END:VEVENT
END:VCALENDAR