BEGIN:VCALENDAR
VERSION:2.0
PRODID:-//Kino Tuškanac//Filmski programi//HR
BEGIN:VEVENT
UID:4bd07082aa3b2f51544e99a91429d200@kinotuskanac.hr
DTSTAMP:20260420T114842Z
DTSTART:20051010T190000
DTEND:20051010T210000
SUMMARY:Gillesova supruga
LOCATION:Kino Tuškanac
DESCRIPTION:La femme de Gilles, 2004 R: Frédéric Fonteyne
END:VEVENT
END:VCALENDAR