BEGIN:VCALENDAR
VERSION:2.0
PRODID:-//Kino Tuškanac//Filmski programi//HR
BEGIN:VEVENT
UID:e73b8cd745ee2f857f1c5d84b56045e7@kinotuskanac.hr
DTSTAMP:20260425T031347Z
DTSTART:20201026T200000
DTEND:20201026T220000
SUMMARY:Tko pjeva zlo ne misli
LOCATION:Kino Tuškanac
DESCRIPTION:Hrvatska, 1970 | Mjesto prikazivanja filma: Studio-galerija KLET (Ilica 73) R: Krešo Golik
END:VEVENT
END:VCALENDAR