BEGIN:VCALENDAR
VERSION:2.0
PRODID:-//Kino Tuškanac//Filmski programi//HR
BEGIN:VEVENT
UID:ff22e60f474af115d007322867e3d707@kinotuskanac.hr
DTSTAMP:20260423T161550Z
DTSTART:20201107T190000
DTEND:20201107T210000
SUMMARY:Mačka na vrućem limenom krovu
LOCATION:Kino Tuškanac
DESCRIPTION:Cat on a Hot Tin Roof, SAD, 1958 R: Richard Brooks
END:VEVENT
END:VCALENDAR