BEGIN:VCALENDAR
VERSION:2.0
PRODID:-//Kino Tuškanac//Filmski programi//HR
BEGIN:VEVENT
UID:a5caf8a8d7b4926676b168e5a90623f6@kinotuskanac.hr
DTSTAMP:20260421T154238Z
DTSTART:20201111T190000
DTEND:20201111T210000
SUMMARY:Marketa Lazarová
LOCATION:Kino Tuškanac
DESCRIPTION:Čehoslovačka, 1967 R: František Vláčil
END:VEVENT
END:VCALENDAR