BEGIN:VCALENDAR
VERSION:2.0
PRODID:-//Kino Tuškanac//Filmski programi//HR
BEGIN:VEVENT
UID:0605c609328f8fee4a82c288705ff563@kinotuskanac.hr
DTSTAMP:20260420T230522Z
DTSTART:20201112T190000
DTEND:20201112T210000
SUMMARY:Gepard
LOCATION:Kino Tuškanac
DESCRIPTION:Il gattopardo, Italija, Francuska, 1963 R: Luchino Visconti
END:VEVENT
END:VCALENDAR