BEGIN:VCALENDAR
VERSION:2.0
PRODID:-//Kino Tuškanac//Filmski programi//HR
BEGIN:VEVENT
UID:f406bf7ede2b3205fbffb391f310a17a@kinotuskanac.hr
DTSTAMP:20260419T141935Z
DTSTART:20201124T190000
DTEND:20201124T210000
SUMMARY:O nečem drugom
LOCATION:Kino Tuškanac
DESCRIPTION:O necem jiném, Čehoslovačka, 1963 | Mjesto prikazivanja filma: Kulturno informativni centar KIC (Preradovićeva ul. 5) R: Vera Chytilová
END:VEVENT
END:VCALENDAR