BEGIN:VCALENDAR
VERSION:2.0
PRODID:-//Kino Tuškanac//Filmski programi//HR
BEGIN:VEVENT
UID:8bd3e812e161fb6a048b0d7c1e812180@kinotuskanac.hr
DTSTAMP:20260421T093103Z
DTSTART:20201201T180000
DTEND:20201201T200000
SUMMARY:Kad te moja čakija ubode
LOCATION:Kino Tuškanac
DESCRIPTION:Hrvatska, 1969 R: Krsto Papić
END:VEVENT
END:VCALENDAR