BEGIN:VCALENDAR
VERSION:2.0
PRODID:-//Kino Tuškanac//Filmski programi//HR
BEGIN:VEVENT
UID:fc7fe3f8361dd45239c07b66b04ea38d@kinotuskanac.hr
DTSTAMP:20260420T114842Z
DTSTART:20051014T190000
DTEND:20051014T210000
SUMMARY:Ljudi nedjeljom
LOCATION:Kino Tuškanac
DESCRIPTION:Menschen am Sonntag, Njemačka, 1929 R: Robert Siodmak
END:VEVENT
END:VCALENDAR