BEGIN:VCALENDAR
VERSION:2.0
PRODID:-//Kino Tuškanac//Filmski programi//HR
BEGIN:VEVENT
UID:d0ca903bfd6bd751fe8a1e99922b559c@kinotuskanac.hr
DTSTAMP:20260420T031933Z
DTSTART:20201202T180000
DTEND:20201202T200000
SUMMARY:Dobro jutro
LOCATION:Kino Tuškanac
DESCRIPTION:Hrvatska, 2007 R: Ante Babaja
END:VEVENT
END:VCALENDAR