BEGIN:VCALENDAR
VERSION:2.0
PRODID:-//Kino Tuškanac//Filmski programi//HR
BEGIN:VEVENT
UID:638610d2a1799fbcfb98e8fa9345aaa3@kinotuskanac.hr
DTSTAMP:20260424T170656Z
DTSTART:20201202T200000
DTEND:20201202T220000
SUMMARY:Riblje oko
LOCATION:Kino Tuškanac
DESCRIPTION:Hrvatska, 1979 R: Joško Marušić
END:VEVENT
END:VCALENDAR