BEGIN:VCALENDAR
VERSION:2.0
PRODID:-//Kino Tuškanac//Filmski programi//HR
BEGIN:VEVENT
UID:0ee9350fd16597bcad61644a4580e03f@kinotuskanac.hr
DTSTAMP:20260420T200223Z
DTSTART:20201203T180000
DTEND:20201203T200000
SUMMARY:Srbenka
LOCATION:Kino Tuškanac
DESCRIPTION:Hrvatska, 2018 | Mjesto prikazivanja filma: Kulturno informativni centar KIC (Preradovićeva ul. 5) R: Nebojša Slijepčević
END:VEVENT
END:VCALENDAR