BEGIN:VCALENDAR
VERSION:2.0
PRODID:-//Kino Tuškanac//Filmski programi//HR
BEGIN:VEVENT
UID:be2b430c857ca8c588ee1508ad17a0d5@kinotuskanac.hr
DTSTAMP:20260424T183002Z
DTSTART:20201205T200000
DTEND:20201205T220000
SUMMARY:Idu dani
LOCATION:Kino Tuškanac
DESCRIPTION:Jugoslavija: Hrvatska, Italija, 1969 R: Nedeljko Dragić
END:VEVENT
END:VCALENDAR