BEGIN:VCALENDAR
VERSION:2.0
PRODID:-//Kino Tuškanac//Filmski programi//HR
BEGIN:VEVENT
UID:fda91da2193cacf65f4a2699fbe98d32@kinotuskanac.hr
DTSTAMP:20260425T015221Z
DTSTART:20201205T200000
DTEND:20201205T220000
SUMMARY:Lisice
LOCATION:Kino Tuškanac
DESCRIPTION:Jugoslavija, Jadran film, 1970 R: Krsto Papić
END:VEVENT
END:VCALENDAR