BEGIN:VCALENDAR
VERSION:2.0
PRODID:-//Kino Tuškanac//Filmski programi//HR
BEGIN:VEVENT
UID:b37473ce05bf696734c4c9fdf7bc11dc@kinotuskanac.hr
DTSTAMP:20260419T224800Z
DTSTART:20201206T200000
DTEND:20201206T220000
SUMMARY:Satiemania
LOCATION:Kino Tuškanac
DESCRIPTION:Jugoslavija: Hrvatska, 1978 R: Zdenko Gašparović
END:VEVENT
END:VCALENDAR