BEGIN:VCALENDAR
VERSION:2.0
PRODID:-//Kino Tuškanac//Filmski programi//HR
BEGIN:VEVENT
UID:cad90c17b1b3f6eca61d81fe6ed638dd@kinotuskanac.hr
DTSTAMP:20260425T203446Z
DTSTART:20201209T190000
DTEND:20201209T210000
SUMMARY:Dogodilo se jedne noći
LOCATION:Kino Tuškanac
DESCRIPTION:It Happened One Night, SAD, 1934 R: Frank Capra
END:VEVENT
END:VCALENDAR