BEGIN:VCALENDAR
VERSION:2.0
PRODID:-//Kino Tuškanac//Filmski programi//HR
BEGIN:VEVENT
UID:d1aca56a3a9f0d232101f2103e5e6105@kinotuskanac.hr
DTSTAMP:20260424T051936Z
DTSTART:20201210T190000
DTEND:20201210T210000
SUMMARY:Čudotvorka
LOCATION:Kino Tuškanac
DESCRIPTION:The Miracle Woman, SAD, 1931 R: Frank Capra
END:VEVENT
END:VCALENDAR