BEGIN:VCALENDAR
VERSION:2.0
PRODID:-//Kino Tuškanac//Filmski programi//HR
BEGIN:VEVENT
UID:c2dce3b7ed9b67e83393f2f5c6663f20@kinotuskanac.hr
DTSTAMP:20260420T174951Z
DTSTART:20201211T190000
DTEND:20201211T210000
SUMMARY:Gospodin Smith ide u Washington
LOCATION:Kino Tuškanac
DESCRIPTION:Mr. Smith Goes to Washington, SAD, 1939 R: Frank Capra
END:VEVENT
END:VCALENDAR