BEGIN:VCALENDAR
VERSION:2.0
PRODID:-//Kino Tuškanac//Filmski programi//HR
BEGIN:VEVENT
UID:75fc4c1c97b2cbe355b5d6129a904029@kinotuskanac.hr
DTSTAMP:20260420T052440Z
DTSTART:20201213T190000
DTEND:20201213T210000
SUMMARY:Američka ludost
LOCATION:Kino Tuškanac
DESCRIPTION:American Madness, SAD, 1932 R: Frank Capra
END:VEVENT
END:VCALENDAR